BEGIN:VCALENDAR
VERSION:2.0
PRODID:-//ERLIS Équipe de Recherche sur les Littératures, les Imaginaires et les Sociétés – UR 4254 - ECPv6.15.18//NONSGML v1.0//EN
CALSCALE:GREGORIAN
METHOD:PUBLISH
X-WR-CALNAME:ERLIS Équipe de Recherche sur les Littératures, les Imaginaires et les Sociétés – UR 4254
X-ORIGINAL-URL:https://erlis.unicaen.fr
X-WR-CALDESC:Évènements pour ERLIS Équipe de Recherche sur les Littératures, les Imaginaires et les Sociétés – UR 4254
REFRESH-INTERVAL;VALUE=DURATION:PT1H
X-Robots-Tag:noindex
X-PUBLISHED-TTL:PT1H
BEGIN:VTIMEZONE
TZID:Europe/Paris
BEGIN:DAYLIGHT
TZOFFSETFROM:+0100
TZOFFSETTO:+0200
TZNAME:CEST
DTSTART:20250330T010000
END:DAYLIGHT
BEGIN:STANDARD
TZOFFSETFROM:+0200
TZOFFSETTO:+0100
TZNAME:CET
DTSTART:20251026T010000
END:STANDARD
BEGIN:DAYLIGHT
TZOFFSETFROM:+0100
TZOFFSETTO:+0200
TZNAME:CEST
DTSTART:20260329T010000
END:DAYLIGHT
BEGIN:STANDARD
TZOFFSETFROM:+0200
TZOFFSETTO:+0100
TZNAME:CET
DTSTART:20261025T010000
END:STANDARD
BEGIN:DAYLIGHT
TZOFFSETFROM:+0100
TZOFFSETTO:+0200
TZNAME:CEST
DTSTART:20270328T010000
END:DAYLIGHT
BEGIN:STANDARD
TZOFFSETFROM:+0200
TZOFFSETTO:+0100
TZNAME:CET
DTSTART:20271031T010000
END:STANDARD
END:VTIMEZONE
BEGIN:VEVENT
DTSTART;TZID=Europe/Paris:20260206T170000
DTEND;TZID=Europe/Paris:20260206T190000
DTSTAMP:20260425T234630
CREATED:20251219T091418Z
LAST-MODIFIED:20251219T153301Z
UID:89184-1770397200-1770404400@erlis.unicaen.fr
SUMMARY:« Mémoire\, vérité et justice » : 50 ans après la dernière dictature en Argentine
DESCRIPTION:Cette conférence est organisée sous l’égide de la Chaire Mémoire et avenir de la Paix\, mais également du Collège d’Excellence de la Faculté de Droit\, codirigé par Mmes Eleonora BOTTINI\, professeur de droit public et Blandine HERVOUËT\, maître de conférences en histoire du droit\, à l’université de Caen Normandie. \n\n\n\nQuelques mots sur la conférence :\n\n\n\nEntre 1976 et 1983\, l’Argentine a connu la dernière dictature de son histoire. S’il s’agissait du huitième coup d’État militaire du XXème siècle\, ce dernier régime va se caractériser par un bilan humain terrible : disparitions forcées de personnes\, assassinats\, prisonniers politiques\, enlèvements et appropriations d’enfants\, entre autres crimes. En 1983\, un régime démocratique est rétabli et l’Argentine va se caractériser par la mise en place immédiate de politiques publiques en lien avec le passé dictatorial. Création d’une commission vérité\, la CONADEP\, et jugement de neuf des commandants des Forces Armées qui ont dirigé le pays pendant la dictature\, « le procès aux Juntes ». Ces deux outils seront suivis de nombreuses initiatives qui s’articulent autour des réclamations de « Mémoire\, Vérité et Justice » des organisations de défense de droits humains et de victimes. Si les politiques ne vont pas toujours aller dans le sens des demandes de ces acteurs\, le passé dictatorial n’a jamais disparu de la sphère publique et politique argentine. \n\n\n\nLe 24 mars 2026\, le pays commémora les 50 ans du coup d’État avec un président de la République\, Javier Milei\, qui prône une autre « vérité » autour du passé dictatorial. À l’opposée de celle revendiquée par les organisations de droits humains\, soutenue par les nombreuses décisions de justice depuis 1983 jusqu’à aujourd’hui\, l’analyse historique des politiques publiques en lien avec la justice et les actions des instances judiciaires pendant les plus de quarante de démocratie\, permettra de mettre en perspective le discours gouvernemental actuel et de mieux comprendre les enjeux liés à la notion de « vérité » dans la construction d’un discours autour d’un passé traumatique. \n\n\n\nIntervenantes :\n\n\n\n \n\n\n\n\nPropos introductifs par Armelle Gosselin-Gorand\, Professeure de droit privé et porteuse de la Chaire Mémoire et avenir de la Paix à l’université de Caen Normandie (ICREJ)\n\n\n\nEleonora Bottini\, Professeure de droit public à l’université de Caen Normandie (ICREJ)\n\n\n\nMarina Franco\, Historienne argentine du CONICET et de la Universidad Nacional San Martin\n\n\n\nNadia Tahir\, Maîtresse de conférences en Études hispano-américaines à l’université de Caen Normandie (ERLIS)\n\n\n\n\nMarina Franco est historienne argentine\, chercheuse principale du Conseil National de la Recherche Scientifique & Technique (CONICET) et professeure titulaire à l’Universidad Nacional de San Martín en Argentine. Directrice du Doctorat en Histoire\, elle est également spécialiste de l’histoire du temps présent du Cône Sud de l’Amérique Latine et des process de violence politique et répressive dans le XXe siècle en Argentine. \n\n\n\n\n\n\n\n\n\n \n\n\n\n\nINSCRIPTIONS
URL:https://erlis.unicaen.fr/evenement/memoire-verite-et-justice-50-ans-apres-la-derniere-dictature-en-argentine/
LOCATION:Caen · Campus 1 · Bâtiment D · Amphi Jean Demolombe\, Centre de recherche en sciences de l'éducation\, Esplanade de la Paix\, Caen\, 14000\, France
ATTACH;FMTTYPE=image/jpeg:https://erlis.unicaen.fr/wp-content/uploads/sites/48/2025/12/Bandeau_06-02-2026.jpg
END:VEVENT
END:VCALENDAR