BEGIN:VCALENDAR
VERSION:2.0
PRODID:-//ERLIS Équipe de Recherche sur les Littératures, les Imaginaires et les Sociétés – UR 4254 - ECPv6.15.18//NONSGML v1.0//EN
CALSCALE:GREGORIAN
METHOD:PUBLISH
X-WR-CALNAME:ERLIS Équipe de Recherche sur les Littératures, les Imaginaires et les Sociétés – UR 4254
X-ORIGINAL-URL:https://erlis.unicaen.fr
X-WR-CALDESC:Évènements pour ERLIS Équipe de Recherche sur les Littératures, les Imaginaires et les Sociétés – UR 4254
REFRESH-INTERVAL;VALUE=DURATION:PT1H
X-Robots-Tag:noindex
X-PUBLISHED-TTL:PT1H
BEGIN:VTIMEZONE
TZID:Europe/Paris
BEGIN:DAYLIGHT
TZOFFSETFROM:+0100
TZOFFSETTO:+0200
TZNAME:CEST
DTSTART:20240331T010000
END:DAYLIGHT
BEGIN:STANDARD
TZOFFSETFROM:+0200
TZOFFSETTO:+0100
TZNAME:CET
DTSTART:20241027T010000
END:STANDARD
BEGIN:DAYLIGHT
TZOFFSETFROM:+0100
TZOFFSETTO:+0200
TZNAME:CEST
DTSTART:20250330T010000
END:DAYLIGHT
BEGIN:STANDARD
TZOFFSETFROM:+0200
TZOFFSETTO:+0100
TZNAME:CET
DTSTART:20251026T010000
END:STANDARD
BEGIN:DAYLIGHT
TZOFFSETFROM:+0100
TZOFFSETTO:+0200
TZNAME:CEST
DTSTART:20260329T010000
END:DAYLIGHT
BEGIN:STANDARD
TZOFFSETFROM:+0200
TZOFFSETTO:+0100
TZNAME:CET
DTSTART:20261025T010000
END:STANDARD
END:VTIMEZONE
BEGIN:VEVENT
DTSTART;TZID=Europe/Paris:20250313T140000
DTEND;TZID=Europe/Paris:20250313T160000
DTSTAMP:20260419T191200
CREATED:20250306T083843Z
LAST-MODIFIED:20250306T084337Z
UID:48611-1741874400-1741881600@erlis.unicaen.fr
SUMMARY:Séminaire ERLIS Junior « Voix mineures\, voies majeures » | 3
DESCRIPTION:Alexandre Chollet (alexandre.chollet@unicaen.fr) \n\n\n\nProgramme  \n\n\n\n14h10 : Sandeep Bakshi (LARCA\, Université Paris Cité) \n\n\n\n Writing Over: Decolonial Queer Worldmaking \n\n\n\n15h : Luba Jurgenson (EUR’ORBEM\, Sorbonne Université) \n\n\n\n Bilinguisme et traduction : peut-on penser l’espace entre les langues ? \n\n\n\nAffiche – Séminaire ERLIS Junior 2024-2025 ‘Voix mineures\, voies majeures (png · 678 Ko)Télécharger (png · 678 Ko)
URL:https://erlis.unicaen.fr/evenement/seminaire-erlis-junior-voix-mineures-voies-majeures-3/
LOCATION:Caen · Campus 1 · Maison des langues et de l’international (MLI) · Salle Li-160\, Carré international - Maison des langues et de l'international\, Caen\, 14000\, France
CATEGORIES:ERLIS junior,Séminaire
ATTACH;FMTTYPE=image/jpeg:https://erlis.unicaen.fr/wp-content/uploads/sites/48/2025/03/Seminaire-ERLIS-Junior-2024-2025-Voix-mineures-voies-majeures.jpg
END:VEVENT
END:VCALENDAR